BEGIN:VCALENDAR
PRODID:iCalendar-Ruby
VERSION:2.0
X-WR-TIMEZONE:America/Los_Angeles
BEGIN:VTIMEZONE
TZID:America/Los_Angeles
X-LIC-LOCATION:America/Los_Angeles
BEGIN:STANDARD
DTSTART:20241103T020000
RRULE:FREQ=YEARLY;BYDAY=1SU;BYMONTH=11
TZNAME:PST
TZOFFSETFROM:-0700
TZOFFSETTO:-0800
END:STANDARD
BEGIN:DAYLIGHT
DTSTART:20250309T020000
RRULE:FREQ=YEARLY;BYDAY=2SU;BYMONTH=3
TZNAME:PDT
TZOFFSETFROM:-0800
TZOFFSETTO:-0700
END:DAYLIGHT
END:VTIMEZONE
BEGIN:VEVENT
DESCRIPTION:National Night Out is an annual community-building campaign tha
 t promotes police-community partnerships and neighborhood camaraderie to m
 ake our neighborhoods safer\, more caring places to live. https://humboldt
 countynv.gov/calendar.aspx?EID=181
DTEND;VALUE=DATE:20260804
DTSTAMP;TZID=America/Los_Angeles:20180423T120031
DTSTART;VALUE=DATE:20260804
LAST-MODIFIED;TZID=America/Los_Angeles:20180423T120031
LOCATION: -     
SEQUENCE:0
SUMMARY:National Night Out
UID:181
URL:/common/modules/iCalendar/iCalendar.aspx?feed=calendar&eventID=181
END:VEVENT
END:VCALENDAR
